BEGIN:VCALENDAR
VERSION:2.0
PRODID:-//Uit in Arnhem - ECPv5.0.0.2//NONSGML v1.0//EN
CALSCALE:GREGORIAN
METHOD:PUBLISH
X-WR-CALNAME:Uit in Arnhem
X-ORIGINAL-URL:https://uitinarnhem.nl
X-WR-CALDESC:Events for Uit in Arnhem
BEGIN:VTIMEZONE
TZID:Europe/Amsterdam
BEGIN:DAYLIGHT
TZOFFSETFROM:+0100
TZOFFSETTO:+0200
TZNAME:CEST
DTSTART:20240331T010000
END:DAYLIGHT
BEGIN:STANDARD
TZOFFSETFROM:+0200
TZOFFSETTO:+0100
TZNAME:CET
DTSTART:20241027T010000
END:STANDARD
END:VTIMEZONE
BEGIN:VEVENT
DTSTART;TZID=Europe/Amsterdam:20240829T180000
DTEND;TZID=Europe/Amsterdam:20240922T230000
DTSTAMP:20260423T112108
CREATED:20240902T114914Z
LAST-MODIFIED:20240902T114914Z
UID:10561-1724954400-1727046000@uitinarnhem.nl
SUMMARY:Airborne Lights 2024 in Arnhemse binnenstad
DESCRIPTION:Van 29 augustus tot en met 22 september 2024 worden een aantal gebouwen op prominente plekken in de Arnhemse binnenstad uitgelicht met een indrukwekkende videoprojectie. Op iedere locatie is een andere projectie te zien\, vanaf de avondschemering tot 23.00 uur. \nHerdenking 80 jaar Slag om Arnhem\nSeptember 2024 staan we gezamenlijk stil bij het feit dat 80 jaar geleden de Slag om Arnhem plaatsvond. Na een succesvolle editie van ‘Arnhem Lights’ tijdens de activiteiten rond 75 jaar vrijheid kwam men op het idee om voor de 80e herdenking de gemeenten te verbinden op het Airborne verhaal met videoprojecties op gebouwen in gemeente Arnhem en Ede. \nLocaties\nDe videoprojecties zijn te zien op de volgende locaties: \n\nStadshuis (westzijde) – Jonas Daniël Meijerplaats\nDe video-animatie ‘Airborne at Night’ vertelt het verhaal van de Slag om Arnhem.\n‘Airborne at Dawn’ is een verhaalvertelling over vluchten en evacuatie en legt de verbinding met vrijheid vandaag de dag.\nCentraal Station Arnhem – Stationsplein 166\nProjecties van archiefbeelden op de architectonische pilaar binnen het stationsgebouw (overdag).\nKoepelkerk – Jansplein 60\nCommunity-project ‘Kleur de Stad’. Arnhemmers kregen de kans om het Airborne-verhaal dat het meeste indruk op hen heeft gemaakt te vereeuwigen in een kunstwerk. De inzendingen van de stadsbewoners zijn meegenomen in de kleurenprojectie op de Koepelkerk op het Jansplein\n\nAirborne route\nIn de Arnhemse binnenstad zijn bijzondere plekken aangemerkt\, die een stuk van het het Airborne-verhaal vertellen. Plekken die een historische betekenis kregen tijdens de Slag om Arnhem. Tijdens Airborne Lights kun je een wandelroute door de binnenstad volgen langs deze plekken\, samen met de locaties waar de videoprojecties worden getoond. \n
URL:https://uitinarnhem.nl/agenda/airborne-lights-2024-in-arnhemse-binnenstad/
LOCATION:Stadshuis\, Jonas Daniël Meijerplaats\, arnhem\, Nederland
CATEGORIES:Actief,Informatief & Verrijking,Kindvriendelijk
ATTACH;FMTTYPE=image/jpeg:https://uitinarnhem.nl/wp-content/uploads/2024/09/Airborn-at-dawn-artist-impression-V4-512x305-1.jpeg
END:VEVENT
END:VCALENDAR