BEGIN:VCALENDAR
VERSION:2.0
PRODID:-//Uit in Arnhem - ECPv5.0.0.2//NONSGML v1.0//EN
CALSCALE:GREGORIAN
METHOD:PUBLISH
X-WR-CALNAME:Uit in Arnhem
X-ORIGINAL-URL:https://uitinarnhem.nl
X-WR-CALDESC:Events for Uit in Arnhem
BEGIN:VTIMEZONE
TZID:Europe/Amsterdam
BEGIN:DAYLIGHT
TZOFFSETFROM:+0100
TZOFFSETTO:+0200
TZNAME:CEST
DTSTART:20200329T010000
END:DAYLIGHT
BEGIN:STANDARD
TZOFFSETFROM:+0200
TZOFFSETTO:+0100
TZNAME:CET
DTSTART:20201025T010000
END:STANDARD
END:VTIMEZONE
BEGIN:VEVENT
DTSTART;TZID=Europe/Amsterdam:20200308T110000
DTEND;TZID=Europe/Amsterdam:20200308T121500
DTSTAMP:20260421T034823
CREATED:20200305T153311Z
LAST-MODIFIED:20200305T153312Z
UID:5307-1583665200-1583669700@uitinarnhem.nl
SUMMARY:A female touch met Arosa Trio in Musis
DESCRIPTION:\nArosa Trio\n\n\nOp Internationale Vrouwendag schotelt Musis u een vrouwelijk programma voor: muziek die geschreven of bewerkt is door vrouwen\, uitgevoerd door een ensemble van louter dames. Het Arosa Trio bestaat inmiddels ruim tien jaar en onderscheidt zich door de focus op minder bekend repertoire. Het programma van vanmorgen is daar een typisch voorbeeld van. Fanny Mendelssohn en Lili Boulanger stierven helaas allebei op jonge leeftijd\, maar lieten ons fraaie muziek na. Het pianotrio van Hensel wordt zelfs gerekend tot de mooiste pianotrio’s uit de 19e eeuw. Van Boulanger hoort u twee sfeervolle miniaturen en Debussy’s La mer klinkt in een bewerking van de Engelse componiste Sally Beamish. Een homage aan de vrouw binnen de klassieke muziek. En o ja\, mannelijk publiek is natuurlijk ook van harte welkom! \n►Dit concert is onderdeel van de klassieke serie Zondagochtendconcerten. \n\n\nCREDITS\nviool: Frederieke Saeijs\ncello: Maja Bogdanovic\npiano: Nino Gvetadze \n\n
URL:https://uitinarnhem.nl/agenda/a-female-touch-met-arosa-trio-in-musis/
LOCATION:Musis\, Velperbinnensingel 15\, Arnhem\, 6811BP\, Nederland
CATEGORIES:Muziek
ATTACH;FMTTYPE=image/jpeg:https://uitinarnhem.nl/wp-content/uploads/2020/03/arosa-trio-website-1653680585_1745021414-scaled.jpeg
END:VEVENT
END:VCALENDAR