BEGIN:VCALENDAR
VERSION:2.0
PRODID:-//Uit in Arnhem - ECPv5.0.0.2//NONSGML v1.0//EN
CALSCALE:GREGORIAN
METHOD:PUBLISH
X-WR-CALNAME:Uit in Arnhem
X-ORIGINAL-URL:https://uitinarnhem.nl
X-WR-CALDESC:Events for Uit in Arnhem
BEGIN:VTIMEZONE
TZID:Europe/Amsterdam
BEGIN:DAYLIGHT
TZOFFSETFROM:+0100
TZOFFSETTO:+0200
TZNAME:CEST
DTSTART:20240331T010000
END:DAYLIGHT
BEGIN:STANDARD
TZOFFSETFROM:+0200
TZOFFSETTO:+0100
TZNAME:CET
DTSTART:20241027T010000
END:STANDARD
END:VTIMEZONE
BEGIN:VEVENT
DTSTART;TZID=Europe/Amsterdam:20241013T140000
DTEND;TZID=Europe/Amsterdam:20241013T180000
DTSTAMP:20260421T045336
CREATED:20241003T132105Z
LAST-MODIFIED:20241003T132850Z
UID:10995-1728828000-1728842400@uitinarnhem.nl
SUMMARY:Simac Ladies Tour in Arnhem
DESCRIPTION:De Simac Ladies Tour komt weer naar Arnhem! \nWil jij de snelste vrouwen ter wereld aan het werk zien? Kom dan naar Arnhem op zondag 13 oktober. Vanaf 14.00 uur start de koers op de Markt en verkennen de beste rensters de prachtige omgeving van Arnhem\, Deelen\, Hoenderloo en Otterlo. Daarna wordt het nog spannender in Arnhem zelf\, met 7 lokale ronden rondom Sonsbeek. De verwachte finish is rond 17.30 uur aan de Zijpendaalseweg ter hoogte van het Watermuseum. \n  \nActiviteitenprogramma Ladies Tour Arnhem\nMaar er is meer! Beleef het fietsfestival tussen het Watermuseum en de Molenplaats. Probeer de pumptrack uit onder begeleiding van Olympisch bmx-er Merle van Benthem\, maak een kunstwerk op een speciale fiets of geniet van de nostalgische Holland Sport fietstafel. Voor de kleintjes zijn er luchtkussens en een DJ-bakfiets zorgt voor de muzikale omlijsting \n  \nToegankelijkheid Simac Ladies Tour Arnhem\nDe Simac Ladies Tour is toegankelijk voor mensen met een beperking. De wedstrijd is vanaf de weg te volgen. De prijsuitreiking na afloop is op het grasveld tussen het Watermuseum en de MolenplaatBij nat weer kan dit grasveld voor mensen in een rolstoel lastig begaanbaar zijn. In de Molenplaats is een invalidentoilet aanwezig. \nBekijk hier al onze volledige agenda: www.uitinarnhem.nl/agenda \nMeer weten over de Simac Ladies Tour? Check: Simac Ladies Tour. \n  \n
URL:https://uitinarnhem.nl/agenda/10995/
LOCATION:Molenplaats Sonsbeek\, Zijpendaalseweg 24a\, Arnhem\, Gelderland\, 6814 CL\, Nederland
CATEGORIES:Sport
ATTACH;FMTTYPE=image/jpeg:https://uitinarnhem.nl/wp-content/uploads/2024/10/Simac-Ladies-Tour-2024-scaled.jpg
END:VEVENT
END:VCALENDAR